BEGIN:VCALENDAR
VERSION:2.0
PRODID:-//activisminadoption.org//NONSGML kigkonsult.se iCalcreator 2.30.10
 //
CALSCALE:GREGORIAN
METHOD:PUBLISH
UID:0f3164e4-3c22-4a07-8141-aa029ce5a814
X-WR-CALDESC:The purchase of a 30 Day All Access Pass to Activism in Adopti
 on content provides access to all available education videos and resources
 \, complimentary access to any live Zoom sessions occurring during the 30-
 Day period\, as well as the ability to receive a certificate for adoption 
 education of up to 15 credit hours. This is a +$360 value. For Adoption Ed
 ucation Certificates purchased separately\, there is a $10 processing fee 
 per 1.5 credit hours.
X-WR-RELCALID:f34a2c8169caed2ee238a97ba1575584
X-WR-TIMEZONE:America/Chicago
BEGIN:VTIMEZONE
TZID:America/Chicago
BEGIN:STANDARD
TZNAME:CST
DTSTART:20231105T020000
TZOFFSETFROM:-0500
TZOFFSETTO:-0600
RDATE:20241103T020000
END:STANDARD
BEGIN:DAYLIGHT
TZNAME:CDT
DTSTART:20240310T020000
TZOFFSETFROM:-0600
TZOFFSETTO:-0500
RDATE:20250309T020000
END:DAYLIGHT
END:VTIMEZONE
BEGIN:VEVENT
UID:f7b06c80-e854-4797-a8c9-9875360ff597
DTSTAMP:20260421T095144Z
DESCRIPTION:The purchase of a 30 Day All Access Pass to Activism in Adoptio
 n content provides access to all available education videos and resources\
 , complimentary access to any live Zoom sessions occurring during the 30-D
 ay period\, as well as the ability to receive a certificate for adoption e
 ducation of up to 15 credit hours. This is a +$360 value. For Adoption Edu
 cation Certificates purchased separately\, there is a $10 processing fee p
 er 1.5 credit hours.
DTSTART;TZID=America/Chicago:20240430T110000
DTEND;TZID=America/Chicago:20240430T120000
LOCATION:
SUMMARY:Activism in Adoption 30 Day Membership
END:VEVENT
END:VCALENDAR
