BEGIN:VCALENDAR
VERSION:2.0
PRODID:-//activisminadoption.org//NONSGML kigkonsult.se iCalcreator 2.30.10
 //
CALSCALE:GREGORIAN
METHOD:PUBLISH
UID:5a7b7f12-5e5d-444d-9810-f9cd62666789
X-WR-CALDESC:Each month\, Activism in Adoption brings together all members 
 of the adoption constellation to learn\, centering the voices of those mos
 t marginalized and impacted by adoption: adoptees and birthparents. Join u
 s in this safe space and become a part of the movement to change the narra
 tive in adoption\, and improve outcomes for all members of the triad.
X-WR-RELCALID:1adcecd08770350c5d03c9ce6a87a601
X-WR-TIMEZONE:America/Chicago
BEGIN:VTIMEZONE
TZID:America/Chicago
BEGIN:STANDARD
TZNAME:CST
DTSTART:20231105T020000
TZOFFSETFROM:-0500
TZOFFSETTO:-0600
RDATE:20241103T020000
RDATE:20251102T020000
END:STANDARD
BEGIN:DAYLIGHT
TZNAME:CDT
DTSTART:20240310T020000
TZOFFSETFROM:-0600
TZOFFSETTO:-0500
RDATE:20250309T020000
END:DAYLIGHT
END:VTIMEZONE
BEGIN:VEVENT
UID:9544772b-c800-47cb-8553-75bbe124485f
DTSTAMP:20260421T105939Z
DESCRIPTION:Each month\, Activism in Adoption brings together all members o
 f the adoption constellation to learn\, centering the voices of those most
  marginalized and impacted by adoption: adoptees and birthparents. Join us
  in this safe space and become a part of the movement to change the narrat
 ive in adoption\, and improve outcomes for all members of the triad.
DTSTART;TZID=America/Chicago:20240626T110000
DTEND;TZID=America/Chicago:20240626T123000
LOCATION:https://activisminadoption.org/upcoming-zoom-sessions.html
SUMMARY:Activism in Adoption :: Live on Zoom
END:VEVENT
END:VCALENDAR
